BEGIN:VCALENDAR
VERSION:2.0
PRODID:itakvim.com
METHOD:PUBLISH
UID:000a3af4-08e6-4ea0-d610-08de9fecec0c
X-WR-CALNAME:e-YDS Elektronik Yabancı Dil Sınavı (e-YDS 2026/11 Farsça/İngilizce) *** Sınav
X-ITAKVIM-LANGUAGE:tr
X-ITAKVIM-REGION:TR
CALSCALE:GREGORIAN
BEGIN:VEVENT
UID:000a3af4-08e6-4ea0-d610-08de9fecec0c
DTSTAMP:20260421T212824Z
DTSTART:20261016T210000Z
DTEND:20261016T210000Z
TRANSP:TRANSPARENT
STATUS:CONFIRMED
SUMMARY:e-YDS Elektronik Yabancı Dil Sınavı (e-YDS 2026/11 Farsça/İngilizce) *** Sınav
END:VEVENT
END:VCALENDAR
