BEGIN:VCALENDAR
VERSION:2.0
PRODID:itakvim.com
METHOD:PUBLISH
UID:00820e74-596b-4b13-50f1-08de9f183112
X-WR-CALNAME:Avusturya Grand Prix'si Üçüncü antrenman
X-ITAKVIM-LANGUAGE:tr
X-ITAKVIM-REGION:TR
CALSCALE:GREGORIAN
BEGIN:VEVENT
UID:00820e74-596b-4b13-50f1-08de9f183112
DTSTAMP:20260420T200718Z
DTSTART:20260627T103000Z
DTEND:20260627T103000Z
TRANSP:TRANSPARENT
STATUS:CONFIRMED
SUMMARY:Avusturya Grand Prix'si Üçüncü antrenman
END:VEVENT
END:VCALENDAR
