BEGIN:VCALENDAR
VERSION:2.0
PRODID:itakvim.com
METHOD:PUBLISH
UID:022f8c96-a704-4a2d-d6e9-08de9fecec0c
X-WR-CALNAME:YÖKDİL Yükseköğretim Kurumları Yabancı Dil Sınavı 2026-YÖKDİL/2 Başvuru Bitiş
X-ITAKVIM-LANGUAGE:tr
X-ITAKVIM-REGION:TR
CALSCALE:GREGORIAN
BEGIN:VEVENT
UID:022f8c96-a704-4a2d-d6e9-08de9fecec0c
DTSTAMP:20260421T212824Z
DTSTART:20260623T210000Z
DTEND:20260623T210000Z
TRANSP:TRANSPARENT
STATUS:CONFIRMED
SUMMARY:YÖKDİL Yükseköğretim Kurumları Yabancı Dil Sınavı 2026-YÖKDİL/2 Başvuru Bitiş
END:VEVENT
END:VCALENDAR
