BEGIN:VCALENDAR
VERSION:2.0
PRODID:itakvim.com
METHOD:PUBLISH
UID:02eec43a-6e93-4edd-4f17-08de9f183112
X-WR-CALNAME:ÖZYES YKS Kapsamında Spor Bilimleri İçin Özel Yetenek Sınavı 2026-ÖZYES Geç Başvuru Bitiş
X-ITAKVIM-LANGUAGE:tr
X-ITAKVIM-REGION:TR
CALSCALE:GREGORIAN
BEGIN:VEVENT
UID:02eec43a-6e93-4edd-4f17-08de9f183112
DTSTAMP:20260420T200538Z
DTSTART:20260730T205900Z
DTEND:20260730T205900Z
TRANSP:TRANSPARENT
STATUS:CONFIRMED
SUMMARY:ÖZYES YKS Kapsamında Spor Bilimleri İçin Özel Yetenek Sınavı 2026-ÖZYES Geç Başvuru Bitiş
END:VEVENT
END:VCALENDAR
