BEGIN:VCALENDAR
VERSION:2.0
PRODID:itakvim.com
METHOD:PUBLISH
UID:03a0e719-2a4f-46bd-dd3b-08de9c03c470
X-WR-CALNAME:FENERBAHÇE A.Ş. - İKAS EYÜPSPOR
X-ITAKVIM-LANGUAGE:tr
X-ITAKVIM-REGION:TR
CALSCALE:GREGORIAN
BEGIN:VEVENT
UID:03a0e719-2a4f-46bd-dd3b-08de9c03c470
DTSTAMP:20260416T220746Z
DTSTART:20260516T210000Z
DTEND:20260516T210000Z
TRANSP:TRANSPARENT
STATUS:CONFIRMED
SUMMARY:FENERBAHÇE A.Ş. - İKAS EYÜPSPOR
LOCATION:CHOBANI STADYUMU FB ŞÜKRÜ SARACOĞLU SPOR KOMPLEKSİ
END:VEVENT
END:VCALENDAR
