BEGIN:VCALENDAR
VERSION:2.0
PRODID:itakvim.com
METHOD:PUBLISH
UID:04ea4088-6c86-454b-5979-08de9f8ee600
X-WR-CALNAME:Gaziantep Enerji Ve İklimlendirme Fuarı
X-ITAKVIM-LANGUAGE:tr
X-ITAKVIM-REGION:TR
CALSCALE:GREGORIAN
BEGIN:VEVENT
UID:04ea4088-6c86-454b-5979-08de9f8ee600
DTSTAMP:20260421T101545Z
DTSTART:20260909T060000Z
DTEND:20260912T150000Z
TRANSP:TRANSPARENT
STATUS:CONFIRMED
SUMMARY:Gaziantep Enerji Ve İklimlendirme Fuarı
DESCRIPTION:1) Nobel Expo Uluslararası Fuarcılık Anonim Şirketi 2) Gsomem Gaziantep Sanayı Odası Mesleki Eğitim Danışmanlık Hizmetleri Anonim Şirketi tarafından düzenlenen enerji, isıtma, soğutma, havalandırma ve doğalgaz sistemleri konulu fuarda görüşmek üzere: 

Web:www.nobelexpo.com
E-Posta: info@nobelexpo.com
LOCATION:Ortadoğu Fuar Merkezi
END:VEVENT
END:VCALENDAR
