BEGIN:VCALENDAR
VERSION:2.0
PRODID:itakvim.com
METHOD:PUBLISH
UID:0592e6ff-b7ad-4523-d614-08de9fecec0c
X-WR-CALNAME:e-YDS Elektronik Yabancı Dil Sınavı (e-YDS 2026/12 İngilizce) *** Sınav
X-ITAKVIM-LANGUAGE:tr
X-ITAKVIM-REGION:TR
CALSCALE:GREGORIAN
BEGIN:VEVENT
UID:0592e6ff-b7ad-4523-d614-08de9fecec0c
DTSTAMP:20260421T212824Z
DTSTART:20261218T210000Z
DTEND:20261218T210000Z
TRANSP:TRANSPARENT
STATUS:CONFIRMED
SUMMARY:e-YDS Elektronik Yabancı Dil Sınavı (e-YDS 2026/12 İngilizce) *** Sınav
END:VEVENT
END:VCALENDAR
