BEGIN:VCALENDAR
VERSION:2.0
PRODID:itakvim.com
METHOD:PUBLISH
UID:06255f75-18c1-4602-4f5d-08de9f183112
X-WR-CALNAME:STS Eczacılık Eczacılık Alanında Yurt Dışı Yükseköğretim Diploma Denkliği İçin Seviye Tespit Sınavı 2026-STS Eczacılık Sonuç
X-ITAKVIM-LANGUAGE:tr
X-ITAKVIM-REGION:TR
CALSCALE:GREGORIAN
BEGIN:VEVENT
UID:06255f75-18c1-4602-4f5d-08de9f183112
DTSTAMP:20260420T200538Z
DTSTART:20261126T210000Z
DTEND:20261126T210000Z
TRANSP:TRANSPARENT
STATUS:CONFIRMED
SUMMARY:STS Eczacılık Eczacılık Alanında Yurt Dışı Yükseköğretim Diploma Denkliği İçin Seviye Tespit Sınavı 2026-STS Eczacılık Sonuç
END:VEVENT
END:VCALENDAR
