BEGIN:VCALENDAR
VERSION:2.0
PRODID:itakvim.com
METHOD:PUBLISH
UID:0792c6e2-eb0f-4885-5341-08de9f183112
X-WR-CALNAME:Bandırma Tarım, Hayvancılık Ve Ekipmanları Fuarı
X-ITAKVIM-LANGUAGE:tr
X-ITAKVIM-REGION:TR
CALSCALE:GREGORIAN
BEGIN:VEVENT
UID:0792c6e2-eb0f-4885-5341-08de9f183112
DTSTAMP:20260420T200816Z
DTSTART:20260922T060000Z
DTEND:20260924T150000Z
TRANSP:TRANSPARENT
STATUS:CONFIRMED
SUMMARY:Bandırma Tarım, Hayvancılık Ve Ekipmanları Fuarı
DESCRIPTION:Lina Fuarcılık Hizmetleri Sanayi Ve Ticaret Limited Şirketi tarafından düzenlenen tarım makineleri , canlı hayvan ve hayvancılık teknolojileri ve yem konulu fuarda görüşmek üzere: 

Web:www.linafair.com
E-Posta: info@linafair.com
LOCATION:Bandırma Kapalı Pazaryeri Ve Yaşam Alanı
END:VEVENT
END:VCALENDAR
