BEGIN:VCALENDAR
VERSION:2.0
PRODID:itakvim.com
METHOD:PUBLISH
UID:07b00b90-0508-40d8-50f5-08de9f183112
X-WR-CALNAME:Britanya Grand Prix'si Kısa Sıralama
X-ITAKVIM-LANGUAGE:tr
X-ITAKVIM-REGION:TR
CALSCALE:GREGORIAN
BEGIN:VEVENT
UID:07b00b90-0508-40d8-50f5-08de9f183112
DTSTAMP:20260420T200718Z
DTSTART:20260703T153000Z
DTEND:20260703T153000Z
TRANSP:TRANSPARENT
STATUS:CONFIRMED
SUMMARY:Britanya Grand Prix'si Kısa Sıralama
END:VEVENT
END:VCALENDAR
