BEGIN:VCALENDAR
VERSION:2.0
PRODID:itakvim.com
METHOD:PUBLISH
UID:07b0fcb9-293d-40b0-4f90-08de9f183112
X-WR-CALNAME:e-YÖKDİL Elektronik Yükseköğretim Kurumları Yabancı Dil Sınavı (e-YÖKDİL 2026/3 İngilizce-Fen Bilimleri) ****** Başvuru Bitiş
X-ITAKVIM-LANGUAGE:tr
X-ITAKVIM-REGION:TR
CALSCALE:GREGORIAN
BEGIN:VEVENT
UID:07b0fcb9-293d-40b0-4f90-08de9f183112
DTSTAMP:20260420T200538Z
DTSTART:20260519T210000Z
DTEND:20260519T210000Z
TRANSP:TRANSPARENT
STATUS:CONFIRMED
SUMMARY:e-YÖKDİL Elektronik Yükseköğretim Kurumları Yabancı Dil Sınavı (e-YÖKDİL 2026/3 İngilizce-Fen Bilimleri) ****** Başvuru Bitiş
END:VEVENT
END:VCALENDAR
