BEGIN:VCALENDAR
VERSION:2.0
PRODID:itakvim.com
METHOD:PUBLISH
UID:07b25380-488e-41ef-4fd5-08de9f183112
X-WR-CALNAME:HİCRİ YILBAŞI
X-ITAKVIM-LANGUAGE:tr
X-ITAKVIM-REGION:TR
CALSCALE:GREGORIAN
BEGIN:VEVENT
UID:07b25380-488e-41ef-4fd5-08de9f183112
DTSTAMP:20260420T200611Z
DTSTART:20260615T210000Z
DTEND:20260615T210000Z
TRANSP:TRANSPARENT
STATUS:CONFIRMED
SUMMARY:HİCRİ YILBAŞI
END:VEVENT
END:VCALENDAR
