BEGIN:VCALENDAR
VERSION:2.0
PRODID:itakvim.com
METHOD:PUBLISH
UID:07f605e2-00c8-4683-528f-08de9f183112
X-WR-CALNAME:Texhibition İstanbul Kumaş, Denim, Tekstil Aksesuarları Ve İplik Fuarı
X-ITAKVIM-LANGUAGE:tr
X-ITAKVIM-REGION:TR
CALSCALE:GREGORIAN
BEGIN:VEVENT
UID:07f605e2-00c8-4683-528f-08de9f183112
DTSTAMP:20260420T200816Z
DTSTART:20260909T060000Z
DTEND:20260911T150000Z
TRANSP:TRANSPARENT
STATUS:CONFIRMED
SUMMARY:Texhibition İstanbul Kumaş, Denim, Tekstil Aksesuarları Ve İplik Fuarı
DESCRIPTION:İtkib Fuarcılık Anonim Şirketi tarafından düzenlenen kumaş, denim, tekstil aksesuarları ve İplik konulu fuarda görüşmek üzere: 

Web:wwwtexhibitionist.com
E-Posta: ifas@itkib.org.tr
LOCATION:İstanbul Fuar Merkezi
END:VEVENT
END:VCALENDAR
