BEGIN:VCALENDAR
VERSION:2.0
PRODID:itakvim.com
METHOD:PUBLISH
UID:07f9d230-35be-4e31-d6e8-08de9fecec0c
X-WR-CALNAME:YÖKDİL Yükseköğretim Kurumları Yabancı Dil Sınavı 2026-YÖKDİL/2 Başvuru Başlangıç
X-ITAKVIM-LANGUAGE:tr
X-ITAKVIM-REGION:TR
CALSCALE:GREGORIAN
BEGIN:VEVENT
UID:07f9d230-35be-4e31-d6e8-08de9fecec0c
DTSTAMP:20260421T212824Z
DTSTART:20260615T210000Z
DTEND:20260615T210000Z
TRANSP:TRANSPARENT
STATUS:CONFIRMED
SUMMARY:YÖKDİL Yükseköğretim Kurumları Yabancı Dil Sınavı 2026-YÖKDİL/2 Başvuru Başlangıç
END:VEVENT
END:VCALENDAR
