BEGIN:VCALENDAR
VERSION:2.0
PRODID:itakvim.com
METHOD:PUBLISH
UID:090b0f9e-30c7-4f61-4f16-08de9f183112
X-WR-CALNAME:ÖZYES YKS Kapsamında Spor Bilimleri İçin Özel Yetenek Sınavı 2026-ÖZYES Geç Başvuru Başlangıç
X-ITAKVIM-LANGUAGE:tr
X-ITAKVIM-REGION:TR
CALSCALE:GREGORIAN
BEGIN:VEVENT
UID:090b0f9e-30c7-4f61-4f16-08de9f183112
DTSTAMP:20260420T200538Z
DTSTART:20260729T210000Z
DTEND:20260729T210000Z
TRANSP:TRANSPARENT
STATUS:CONFIRMED
SUMMARY:ÖZYES YKS Kapsamında Spor Bilimleri İçin Özel Yetenek Sınavı 2026-ÖZYES Geç Başvuru Başlangıç
END:VEVENT
END:VCALENDAR
