BEGIN:VCALENDAR
VERSION:2.0
PRODID:itakvim.com
METHOD:PUBLISH
UID:0dcd99cf-15db-4c6b-526b-08de9f183112
X-WR-CALNAME:Fresh Expo Antalya - Meyve,Sebze Mamulleri ,Ambalaj ,Lojistik, Depolama Ve Taze Ürün Teknolojileri
X-ITAKVIM-LANGUAGE:tr
X-ITAKVIM-REGION:TR
CALSCALE:GREGORIAN
BEGIN:VEVENT
UID:0dcd99cf-15db-4c6b-526b-08de9f183112
DTSTAMP:20260420T200816Z
DTSTART:20260506T060000Z
DTEND:20260508T150000Z
TRANSP:TRANSPARENT
STATUS:CONFIRMED
SUMMARY:Fresh Expo Antalya - Meyve,Sebze Mamulleri ,Ambalaj ,Lojistik, Depolama Ve Taze Ürün Teknolojileri
DESCRIPTION:Anfaş Antalya Fuarcılık İşletme Ve Yatırım Anonim Şirketi tarafından düzenlenen meyve,sebze mamulleri ,ambalaj ,lojistik, depolama ve taze ürün teknolojileri konulu fuarda görüşmek üzere: 

Web:www.anfas.com.tr
E-Posta: info@anfas.com.tr
LOCATION:Anfaş Antalya Fuar Ve Kongre Merkezi
END:VEVENT
END:VCALENDAR
