BEGIN:VCALENDAR
VERSION:2.0
PRODID:itakvim.com
METHOD:PUBLISH
UID:0e3c0ee3-29bf-4eda-4f9a-08de9f183112
X-WR-CALNAME:DUS Diş Hekimliğinde Uzmanlık Eğitimi Giriş Sınavı 2026-DUS 2.Dönem Başvuru Bitiş
X-ITAKVIM-LANGUAGE:tr
X-ITAKVIM-REGION:TR
CALSCALE:GREGORIAN
BEGIN:VEVENT
UID:0e3c0ee3-29bf-4eda-4f9a-08de9f183112
DTSTAMP:20260420T200538Z
DTSTART:20260923T210000Z
DTEND:20260923T210000Z
TRANSP:TRANSPARENT
STATUS:CONFIRMED
SUMMARY:DUS Diş Hekimliğinde Uzmanlık Eğitimi Giriş Sınavı 2026-DUS 2.Dönem Başvuru Bitiş
END:VEVENT
END:VCALENDAR
