BEGIN:VCALENDAR
VERSION:2.0
PRODID:itakvim.com
METHOD:PUBLISH
UID:0f95ccfd-81fc-4952-4f9c-08de9f183112
X-WR-CALNAME:DUS Diş Hekimliğinde Uzmanlık Eğitimi Giriş Sınavı 2026-DUS 2.Dönem Geç Başvuru Bitiş
X-ITAKVIM-LANGUAGE:tr
X-ITAKVIM-REGION:TR
CALSCALE:GREGORIAN
BEGIN:VEVENT
UID:0f95ccfd-81fc-4952-4f9c-08de9f183112
DTSTAMP:20260420T200538Z
DTSTART:20261001T205900Z
DTEND:20261001T205900Z
TRANSP:TRANSPARENT
STATUS:CONFIRMED
SUMMARY:DUS Diş Hekimliğinde Uzmanlık Eğitimi Giriş Sınavı 2026-DUS 2.Dönem Geç Başvuru Bitiş
END:VEVENT
END:VCALENDAR
