BEGIN:VCALENDAR
VERSION:2.0
PRODID:itakvim.com
METHOD:PUBLISH
UID:105b2ce2-263a-4835-526c-08de9f183112
X-WR-CALNAME:6.Antalya Estetik Güzellik Kişisel Bakım Kozmetik Fuarı
X-ITAKVIM-LANGUAGE:tr
X-ITAKVIM-REGION:TR
CALSCALE:GREGORIAN
BEGIN:VEVENT
UID:105b2ce2-263a-4835-526c-08de9f183112
DTSTAMP:20260420T200816Z
DTSTART:20260918T060000Z
DTEND:20260920T150000Z
TRANSP:TRANSPARENT
STATUS:CONFIRMED
SUMMARY:6.Antalya Estetik Güzellik Kişisel Bakım Kozmetik Fuarı
DESCRIPTION:Us Fuarcılık Ve Organizasyon Ltd. Şti. tarafından düzenlenen güzellik&bakım,kozmetik,spa &sağlık ve  estetik konulu fuarda görüşmek üzere: 

Web:usfuar.com
E-Posta: info@usfuar.com
LOCATION:Anfaş Antalya Fuar Ve Kongre Merkezi
END:VEVENT
END:VCALENDAR
