BEGIN:VCALENDAR
VERSION:2.0
PRODID:itakvim.com
METHOD:PUBLISH
UID:114c5c11-10e9-4bff-5347-08de9f183112
X-WR-CALNAME:İnterfresh Eurasia / Interfood Eurasia Meyve,Sebze,Gıda,Gıda Ürünleri ,Gıda Teknolojileri Ambalaj,Tarım Teknolojileri,Depolama Ve   Lojistik Fuarı
X-ITAKVIM-LANGUAGE:tr
X-ITAKVIM-REGION:TR
CALSCALE:GREGORIAN
BEGIN:VEVENT
UID:114c5c11-10e9-4bff-5347-08de9f183112
DTSTAMP:20260420T200816Z
DTSTART:20260908T060000Z
DTEND:20260910T150000Z
TRANSP:TRANSPARENT
STATUS:CONFIRMED
SUMMARY:İnterfresh Eurasia / Interfood Eurasia Meyve,Sebze,Gıda,Gıda Ürünleri ,Gıda Teknolojileri Ambalaj,Tarım Teknolojileri,Depolama Ve   Lojistik Fuarı
DESCRIPTION:1) Antexpo Fuarcılık Hizmetleri Anonim Şirketi 2) Expofest Fuarcılık Anonim Şirketi tarafından düzenlenen sebze,meyve, gıda,ambalaj,lojistik, tarım ekipmanları,depolama , konulu fuarda görüşmek üzere: 

Web:www.euroasiainterfresh.com
E-Posta: obanbal@antexpo.info
LOCATION:Fuarizmir - Yeni Fuar Alanı
END:VEVENT
END:VCALENDAR
