BEGIN:VCALENDAR
VERSION:2.0
PRODID:itakvim.com
METHOD:PUBLISH
UID:121a9599-60a9-4a80-52bc-08de9f183112
X-WR-CALNAME:Studyexpo Yurtdışı Eğitim Fuarı
X-ITAKVIM-LANGUAGE:tr
X-ITAKVIM-REGION:TR
CALSCALE:GREGORIAN
BEGIN:VEVENT
UID:121a9599-60a9-4a80-52bc-08de9f183112
DTSTAMP:20260420T200816Z
DTSTART:20261003T060000Z
DTEND:20261003T150000Z
TRANSP:TRANSPARENT
STATUS:CONFIRMED
SUMMARY:Studyexpo Yurtdışı Eğitim Fuarı
DESCRIPTION:Study Expo Fuarcılık A.Ş. tarafından düzenlenen yurtdışı eğitim fuarı konulu fuarda görüşmek üzere: 

Web:www.studyexpo.com
E-Posta: info@studyexpo.com
LOCATION:Ntercontinental Istanbul
END:VEVENT
END:VCALENDAR
