BEGIN:VCALENDAR
VERSION:2.0
PRODID:itakvim.com
METHOD:PUBLISH
UID:124764e6-7b3a-4525-5336-08de9f183112
X-WR-CALNAME:3.Ödemiş Tarım, Hayvancılık Ve Makinaları Teknolojileri Fuarı
X-ITAKVIM-LANGUAGE:tr
X-ITAKVIM-REGION:TR
CALSCALE:GREGORIAN
BEGIN:VEVENT
UID:124764e6-7b3a-4525-5336-08de9f183112
DTSTAMP:20260420T200816Z
DTSTART:20260430T060000Z
DTEND:20260503T150000Z
TRANSP:TRANSPARENT
STATUS:CONFIRMED
SUMMARY:3.Ödemiş Tarım, Hayvancılık Ve Makinaları Teknolojileri Fuarı
DESCRIPTION:Efr Fuarcılık Ve Organizasyon Ticaret Limited Şirketi tarafından düzenlenen tarım ,hayvancılık makinaları teknolojileri konulu fuarda görüşmek üzere: 

Web:www.efrfairs.com
E-Posta: muhammed@efrfaris.com
LOCATION:Ödemiş Belediyesi Fuar Alanı
END:VEVENT
END:VCALENDAR
