BEGIN:VCALENDAR
VERSION:2.0
PRODID:itakvim.com
METHOD:PUBLISH
UID:12541b41-02c7-4013-52e1-08de9f183112
X-WR-CALNAME:Plast  Eurasia  İstanbul    35.Uluslararası  Plastik Endüstrisi Fuarı
X-ITAKVIM-LANGUAGE:tr
X-ITAKVIM-REGION:TR
CALSCALE:GREGORIAN
BEGIN:VEVENT
UID:12541b41-02c7-4013-52e1-08de9f183112
DTSTAMP:20260420T200816Z
DTSTART:20261202T060000Z
DTEND:20261205T150000Z
TRANSP:TRANSPARENT
STATUS:CONFIRMED
SUMMARY:Plast  Eurasia  İstanbul    35.Uluslararası  Plastik Endüstrisi Fuarı
DESCRIPTION:Tüyap Tüm Fuarcılık Yapım Anonim Şirketi tarafından düzenlenen plastik makineleri, hammaddeler, kalıp, isı, kontrol cihazları, hidrolik-pnömatik konulu fuarda görüşmek üzere: 

Web:www.tuyap.com.tr
E-Posta: tuyap@tuyap.com.tr
LOCATION:Tüyap Fuar Ve Kongre Merkezi
END:VEVENT
END:VCALENDAR
