BEGIN:VCALENDAR
VERSION:2.0
PRODID:itakvim.com
METHOD:PUBLISH
UID:13cca4e3-6240-4d90-4fb8-08de9f183112
X-WR-CALNAME:TUS Tıpta Uzmanlık Eğitimi Giriş Sınavı 2026-TUS 2. Dönem Başvuru Bitiş
X-ITAKVIM-LANGUAGE:tr
X-ITAKVIM-REGION:TR
CALSCALE:GREGORIAN
BEGIN:VEVENT
UID:13cca4e3-6240-4d90-4fb8-08de9f183112
DTSTAMP:20260420T200538Z
DTSTART:20260715T210000Z
DTEND:20260715T210000Z
TRANSP:TRANSPARENT
STATUS:CONFIRMED
SUMMARY:TUS Tıpta Uzmanlık Eğitimi Giriş Sınavı 2026-TUS 2. Dönem Başvuru Bitiş
END:VEVENT
END:VCALENDAR
