BEGIN:VCALENDAR
VERSION:2.0
PRODID:itakvim.com
METHOD:PUBLISH
UID:140e50aa-d882-4879-50ea-08de9f183112
X-WR-CALNAME:All.races.barcelona-catalunya-grand-prix Birinci antrenman
X-ITAKVIM-LANGUAGE:tr
X-ITAKVIM-REGION:TR
CALSCALE:GREGORIAN
BEGIN:VEVENT
UID:140e50aa-d882-4879-50ea-08de9f183112
DTSTAMP:20260420T200718Z
DTSTART:20260612T113000Z
DTEND:20260612T113000Z
TRANSP:TRANSPARENT
STATUS:CONFIRMED
SUMMARY:All.races.barcelona-catalunya-grand-prix Birinci antrenman
END:VEVENT
END:VCALENDAR
