BEGIN:VCALENDAR
VERSION:2.0
PRODID:itakvim.com
METHOD:PUBLISH
UID:15fc9e81-1f00-41af-5298-08de9f183112
X-WR-CALNAME:Ijs - İstanbul Jewelry Show 60. İstanbul Uluslararası Mücevher, Altın, Gümüş, Değerli Taş Ve Teknolojileri Fuarı
X-ITAKVIM-LANGUAGE:tr
X-ITAKVIM-REGION:TR
CALSCALE:GREGORIAN
BEGIN:VEVENT
UID:15fc9e81-1f00-41af-5298-08de9f183112
DTSTAMP:20260420T200816Z
DTSTART:20260930T060000Z
DTEND:20261003T150000Z
TRANSP:TRANSPARENT
STATUS:CONFIRMED
SUMMARY:Ijs - İstanbul Jewelry Show 60. İstanbul Uluslararası Mücevher, Altın, Gümüş, Değerli Taş Ve Teknolojileri Fuarı
DESCRIPTION:Informa Fuarcılık Anonim Şirketi tarafından düzenlenen mücevher, altın, gümüş, değerli taş, teknolojileri, İlgili yan sanayi konulu fuarda görüşmek üzere: 

Web:www.istanbuljewelryshow.com
E-Posta: aynur.turan@informa.com
LOCATION:İstanbul Fuar Merkezi
END:VEVENT
END:VCALENDAR
