BEGIN:VCALENDAR
VERSION:2.0
PRODID:itakvim.com
METHOD:PUBLISH
UID:17ab922a-d0af-4c0a-4f97-08de9f183112
X-WR-CALNAME:DUS Diş Hekimliğinde Uzmanlık Eğitimi Giriş Sınavı 2026-DUS 1.Dönem Sonuç
X-ITAKVIM-LANGUAGE:tr
X-ITAKVIM-REGION:TR
CALSCALE:GREGORIAN
BEGIN:VEVENT
UID:17ab922a-d0af-4c0a-4f97-08de9f183112
DTSTAMP:20260420T200538Z
DTSTART:20260521T210000Z
DTEND:20260521T210000Z
TRANSP:TRANSPARENT
STATUS:CONFIRMED
SUMMARY:DUS Diş Hekimliğinde Uzmanlık Eğitimi Giriş Sınavı 2026-DUS 1.Dönem Sonuç
END:VEVENT
END:VCALENDAR
