BEGIN:VCALENDAR
VERSION:2.0
PRODID:itakvim.com
METHOD:PUBLISH
UID:18b2f99e-c26e-4397-4ef8-08de9f183112
X-WR-CALNAME:KPSS Kamu Personel Seçme Sınavı 2026-KPSS Ön Lisans Başvuru Başlangıç
X-ITAKVIM-LANGUAGE:tr
X-ITAKVIM-REGION:TR
CALSCALE:GREGORIAN
BEGIN:VEVENT
UID:18b2f99e-c26e-4397-4ef8-08de9f183112
DTSTAMP:20260420T200538Z
DTSTART:20260728T210000Z
DTEND:20260728T210000Z
TRANSP:TRANSPARENT
STATUS:CONFIRMED
SUMMARY:KPSS Kamu Personel Seçme Sınavı 2026-KPSS Ön Lisans Başvuru Başlangıç
END:VEVENT
END:VCALENDAR
