BEGIN:VCALENDAR
VERSION:2.0
PRODID:itakvim.com
METHOD:PUBLISH
UID:18bc52d0-ed5e-4e92-4f9b-08de9f183112
X-WR-CALNAME:DUS Diş Hekimliğinde Uzmanlık Eğitimi Giriş Sınavı 2026-DUS 2.Dönem Geç Başvuru Başlangıç
X-ITAKVIM-LANGUAGE:tr
X-ITAKVIM-REGION:TR
CALSCALE:GREGORIAN
BEGIN:VEVENT
UID:18bc52d0-ed5e-4e92-4f9b-08de9f183112
DTSTAMP:20260420T200538Z
DTSTART:20260930T210000Z
DTEND:20260930T210000Z
TRANSP:TRANSPARENT
STATUS:CONFIRMED
SUMMARY:DUS Diş Hekimliğinde Uzmanlık Eğitimi Giriş Sınavı 2026-DUS 2.Dönem Geç Başvuru Başlangıç
END:VEVENT
END:VCALENDAR
