BEGIN:VCALENDAR
VERSION:2.0
PRODID:itakvim.com
METHOD:PUBLISH
UID:18efcb4a-25f3-429e-cc9c-08de9d98d356
X-WR-CALNAME:Fosforlu Cevriye
X-ITAKVIM-LANGUAGE:tr
X-ITAKVIM-REGION:TR
CALSCALE:GREGORIAN
BEGIN:VEVENT
UID:18efcb4a-25f3-429e-cc9c-08de9d98d356
DTSTAMP:20260418T222122Z
DTSTART:20260502T120000Z
DTEND:20260502T120000Z
TRANSP:TRANSPARENT
STATUS:CONFIRMED
SUMMARY:Fosforlu Cevriye
LOCATION:Harbiye Muhsin Ertuğrul Sahnesi
END:VEVENT
END:VCALENDAR
