BEGIN:VCALENDAR
VERSION:2.0
PRODID:itakvim.com
METHOD:PUBLISH
UID:198de88a-f283-4704-4ee7-08de9f183112
X-WR-CALNAME:KPSS Kamu Personel Seçme Sınavı 2026-KPSS Lisans (Genel Yetenek-Genel Kültür) Başvuru Bitiş
X-ITAKVIM-LANGUAGE:tr
X-ITAKVIM-REGION:TR
CALSCALE:GREGORIAN
BEGIN:VEVENT
UID:198de88a-f283-4704-4ee7-08de9f183112
DTSTAMP:20260420T200538Z
DTSTART:20260712T210000Z
DTEND:20260712T210000Z
TRANSP:TRANSPARENT
STATUS:CONFIRMED
SUMMARY:KPSS Kamu Personel Seçme Sınavı 2026-KPSS Lisans (Genel Yetenek-Genel Kültür) Başvuru Bitiş
END:VEVENT
END:VCALENDAR
