BEGIN:VCALENDAR
VERSION:2.0
PRODID:itakvim.com
METHOD:PUBLISH
UID:1a0173cb-a738-4b96-5324-08de9f183112
X-WR-CALNAME:4.Yöresel Ürünler Ve Hediyelik Eşya Fuarı 2025
X-ITAKVIM-LANGUAGE:tr
X-ITAKVIM-REGION:TR
CALSCALE:GREGORIAN
BEGIN:VEVENT
UID:1a0173cb-a738-4b96-5324-08de9f183112
DTSTAMP:20260420T200816Z
DTSTART:20260428T060000Z
DTEND:20260503T150000Z
TRANSP:TRANSPARENT
STATUS:CONFIRMED
SUMMARY:4.Yöresel Ürünler Ve Hediyelik Eşya Fuarı 2025
DESCRIPTION:İmzam Group Fuarcılık İthalat İhracat Ve Ticaret Limited Şirketi tarafından düzenlenen yöresel ürünler ve hediyelik eşya fuarı konulu fuarda görüşmek üzere: 

Web:aksoyaytul@hotmail.com
E-Posta: hvakkas33@hotmail.com
LOCATION:Adana Uluslararası  Fuar Ve Kongre Merkezi
END:VEVENT
END:VCALENDAR
