BEGIN:VCALENDAR
VERSION:2.0
PRODID:itakvim.com
METHOD:PUBLISH
UID:1ad20cee-f4d8-4673-cc94-08de9d98d356
X-WR-CALNAME:Maviydi Bisikletim
X-ITAKVIM-LANGUAGE:tr
X-ITAKVIM-REGION:TR
CALSCALE:GREGORIAN
BEGIN:VEVENT
UID:1ad20cee-f4d8-4673-cc94-08de9d98d356
DTSTAMP:20260418T222121Z
DTSTART:20260502T120000Z
DTEND:20260502T120000Z
TRANSP:TRANSPARENT
STATUS:CONFIRMED
SUMMARY:Maviydi Bisikletim
LOCATION:FSM Kültür Sanat Merkezi-Rasim Öztekin Sahnesi
END:VEVENT
END:VCALENDAR
