BEGIN:VCALENDAR
VERSION:2.0
PRODID:itakvim.com
METHOD:PUBLISH
UID:1bfa1574-03ac-4306-4fd7-08de9f183112
X-WR-CALNAME:MEVLİD KANDİLİ
X-ITAKVIM-LANGUAGE:tr
X-ITAKVIM-REGION:TR
CALSCALE:GREGORIAN
BEGIN:VEVENT
UID:1bfa1574-03ac-4306-4fd7-08de9f183112
DTSTAMP:20260420T200611Z
DTSTART:20260823T210000Z
DTEND:20260823T210000Z
TRANSP:TRANSPARENT
STATUS:CONFIRMED
SUMMARY:MEVLİD KANDİLİ
END:VEVENT
END:VCALENDAR
