BEGIN:VCALENDAR
VERSION:2.0
PRODID:itakvim.com
METHOD:PUBLISH
UID:1c2fa26e-69b3-435e-4fac-08de9f183112
X-WR-CALNAME:STS Diş Hekimliği Diş Hekimliği Alanında Yurt Dışı Yükseköğretim Diploma Denkliği İçin Seviye Tespit Sınavı 2026-STS Diş Hekimliği 2.Dönem Başvuru Bitiş
X-ITAKVIM-LANGUAGE:tr
X-ITAKVIM-REGION:TR
CALSCALE:GREGORIAN
BEGIN:VEVENT
UID:1c2fa26e-69b3-435e-4fac-08de9f183112
DTSTAMP:20260420T200538Z
DTSTART:20260923T210000Z
DTEND:20260923T210000Z
TRANSP:TRANSPARENT
STATUS:CONFIRMED
SUMMARY:STS Diş Hekimliği Diş Hekimliği Alanında Yurt Dışı Yükseköğretim Diploma Denkliği İçin Seviye Tespit Sınavı 2026-STS Diş Hekimliği 2.Dönem Başvuru Bitiş
END:VEVENT
END:VCALENDAR
