BEGIN:VCALENDAR
VERSION:2.0
PRODID:itakvim.com
METHOD:PUBLISH
UID:1ca78330-6d4b-44f6-cc99-08de9d98d356
X-WR-CALNAME:Fosforlu Cevriye
X-ITAKVIM-LANGUAGE:tr
X-ITAKVIM-REGION:TR
CALSCALE:GREGORIAN
BEGIN:VEVENT
UID:1ca78330-6d4b-44f6-cc99-08de9d98d356
DTSTAMP:20260418T222122Z
DTSTART:20260429T120000Z
DTEND:20260429T120000Z
TRANSP:TRANSPARENT
STATUS:CONFIRMED
SUMMARY:Fosforlu Cevriye
LOCATION:Harbiye Muhsin Ertuğrul Sahnesi
END:VEVENT
END:VCALENDAR
