BEGIN:VCALENDAR
VERSION:2.0
PRODID:itakvim.com
METHOD:PUBLISH
UID:1d21e285-f9bb-4af7-5106-08de9f183112
X-WR-CALNAME:Hollanda Grand Prix'si Sıralama turları
X-ITAKVIM-LANGUAGE:tr
X-ITAKVIM-REGION:TR
CALSCALE:GREGORIAN
BEGIN:VEVENT
UID:1d21e285-f9bb-4af7-5106-08de9f183112
DTSTAMP:20260420T200718Z
DTSTART:20260822T140000Z
DTEND:20260822T140000Z
TRANSP:TRANSPARENT
STATUS:CONFIRMED
SUMMARY:Hollanda Grand Prix'si Sıralama turları
END:VEVENT
END:VCALENDAR
