BEGIN:VCALENDAR
VERSION:2.0
PRODID:itakvim.com
METHOD:PUBLISH
UID:1eb611ae-a4ef-492d-d2ac-08de9f271cd7
X-WR-CALNAME:2026 I. Geçici Vergi Dönemi (Ocak-Şubat-Mart) Gerçek Faydalanıcı Bildirim Formu Son Gün
X-ITAKVIM-LANGUAGE:tr
X-ITAKVIM-REGION:TR
CALSCALE:GREGORIAN
BEGIN:VEVENT
UID:1eb611ae-a4ef-492d-d2ac-08de9f271cd7
DTSTAMP:20260420T215235Z
DTSTART:20260518T140000Z
DTEND:20260518T140000Z
TRANSP:TRANSPARENT
STATUS:CONFIRMED
SUMMARY:2026 I. Geçici Vergi Dönemi (Ocak-Şubat-Mart) Gerçek Faydalanıcı Bildirim Formu Son Gün
DESCRIPTION:2026 I. Geçici Vergi Dönemine (Ocak-Şubat-Mart) Ait Kurum Geçici Vergi Beyannamesi Ekinde Kurumlar Vergisi Mükellefleri Tarafından Gerçek Faydalanıcıya İlişkin Bildirim Formunun Verilmesi
END:VEVENT
END:VCALENDAR
