BEGIN:VCALENDAR
VERSION:2.0
PRODID:itakvim.com
METHOD:PUBLISH
UID:1f06d33c-b1ef-4f1a-5306-08de9f183112
X-WR-CALNAME:Naturfest Kamp Karavan Ve Doğa Sporları Fuarı
X-ITAKVIM-LANGUAGE:tr
X-ITAKVIM-REGION:TR
CALSCALE:GREGORIAN
BEGIN:VEVENT
UID:1f06d33c-b1ef-4f1a-5306-08de9f183112
DTSTAMP:20260420T200816Z
DTSTART:20260430T060000Z
DTEND:20260503T150000Z
TRANSP:TRANSPARENT
STATUS:CONFIRMED
SUMMARY:Naturfest Kamp Karavan Ve Doğa Sporları Fuarı
DESCRIPTION:Prizma Etkinlik Risk Yönetim Servis Hizmetleri Ticaret Limited Şirketi tarafından düzenlenen kamp ve karavan araçları, doğa sporları konulu fuarda görüşmek üzere: 

Web:www.naturfest.net
E-Posta: cengiz.imeci@prizma-hr.com
LOCATION:Dr. Mimar Kadir Topbaş Gösteri Ve Sanat Merkezi
END:VEVENT
END:VCALENDAR
