BEGIN:VCALENDAR
VERSION:2.0
PRODID:itakvim.com
METHOD:PUBLISH
UID:1f22479d-e7a8-4ccd-530e-08de9f183112
X-WR-CALNAME:Craftistanbul 7.Uluslararası Yöresel Ve Geleneksel El Sanatları Fuarı
X-ITAKVIM-LANGUAGE:tr
X-ITAKVIM-REGION:TR
CALSCALE:GREGORIAN
BEGIN:VEVENT
UID:1f22479d-e7a8-4ccd-530e-08de9f183112
DTSTAMP:20260420T200816Z
DTSTART:20261001T060000Z
DTEND:20261004T150000Z
TRANSP:TRANSPARENT
STATUS:CONFIRMED
SUMMARY:Craftistanbul 7.Uluslararası Yöresel Ve Geleneksel El Sanatları Fuarı
DESCRIPTION:Atis Fuarcılık Anonim Şirketi tarafından düzenlenen yöresel, geleneksel el sanatları ve tasarım konulu fuarda görüşmek üzere: 

Web:www.craftfairistanbul.com
E-Posta: info@atisfuar.com
LOCATION:Dr. Mimar Kadir Topbaş Gösteri Ve Sanat Merkezi
END:VEVENT
END:VCALENDAR
