BEGIN:VCALENDAR
VERSION:2.0
PRODID:itakvim.com
METHOD:PUBLISH
UID:1f51e50a-cf6d-4347-50e6-08de9f183112
X-WR-CALNAME:Monako Grand Prix'si İkinci antrenman
X-ITAKVIM-LANGUAGE:tr
X-ITAKVIM-REGION:TR
CALSCALE:GREGORIAN
BEGIN:VEVENT
UID:1f51e50a-cf6d-4347-50e6-08de9f183112
DTSTAMP:20260420T200718Z
DTSTART:20260605T150000Z
DTEND:20260605T150000Z
TRANSP:TRANSPARENT
STATUS:CONFIRMED
SUMMARY:Monako Grand Prix'si İkinci antrenman
END:VEVENT
END:VCALENDAR
