BEGIN:VCALENDAR
VERSION:2.0
PRODID:itakvim.com
METHOD:PUBLISH
UID:1fd1bd39-0082-4ada-52eb-08de9f183112
X-WR-CALNAME:Bursa Food Poınt Gıda Ürünleri Ve Teknolojileri Fuarı
X-ITAKVIM-LANGUAGE:tr
X-ITAKVIM-REGION:TR
CALSCALE:GREGORIAN
BEGIN:VEVENT
UID:1fd1bd39-0082-4ada-52eb-08de9f183112
DTSTAMP:20260420T200816Z
DTSTART:20260611T060000Z
DTEND:20260613T150000Z
TRANSP:TRANSPARENT
STATUS:CONFIRMED
SUMMARY:Bursa Food Poınt Gıda Ürünleri Ve Teknolojileri Fuarı
DESCRIPTION:Kfa Fuarcılık Anonim Şirketi tarafından düzenlenen gıda ürünleri ve teknolojileri konulu fuarda görüşmek üzere: 

Web:www.kfa.com.tr
E-Posta: info@kfa.com.tr
LOCATION:Bursa Fuar Merkezi
END:VEVENT
END:VCALENDAR
