BEGIN:VCALENDAR
VERSION:2.0
PRODID:itakvim.com
METHOD:PUBLISH
UID:2081541f-2fc6-4f80-5280-08de9f183112
X-WR-CALNAME:Hometex 2026 Uluslararası Ev Tekstili Fuarı
X-ITAKVIM-LANGUAGE:tr
X-ITAKVIM-REGION:TR
CALSCALE:GREGORIAN
BEGIN:VEVENT
UID:2081541f-2fc6-4f80-5280-08de9f183112
DTSTAMP:20260420T200816Z
DTSTART:20260519T060000Z
DTEND:20260522T150000Z
TRANSP:TRANSPARENT
STATUS:CONFIRMED
SUMMARY:Hometex 2026 Uluslararası Ev Tekstili Fuarı
DESCRIPTION:Kfa Fuarcılık Anonim Şirketi tarafından düzenlenen ev tekstili ve aksesuarları konulu fuarda görüşmek üzere: 

Web:www.kfa.com.tr
E-Posta: info@kfa.com.tr
LOCATION:İstanbul Fuar Merkezi
END:VEVENT
END:VCALENDAR
