BEGIN:VCALENDAR
VERSION:2.0
PRODID:itakvim.com
METHOD:PUBLISH
UID:21251b82-d3e9-4f42-cc82-08de9d98d356
X-WR-CALNAME:Sevgili Yelena Sergeyevna
X-ITAKVIM-LANGUAGE:tr
X-ITAKVIM-REGION:TR
CALSCALE:GREGORIAN
BEGIN:VEVENT
UID:21251b82-d3e9-4f42-cc82-08de9d98d356
DTSTAMP:20260418T222121Z
DTSTART:20260425T170000Z
DTEND:20260425T170000Z
TRANSP:TRANSPARENT
STATUS:CONFIRMED
SUMMARY:Sevgili Yelena Sergeyevna
LOCATION:Kağıthane Sadabad Sahnesi
END:VEVENT
END:VCALENDAR
