BEGIN:VCALENDAR
VERSION:2.0
PRODID:itakvim.com
METHOD:PUBLISH
UID:21bdcbfd-3d01-4f18-5363-08de9f183112
X-WR-CALNAME:İngiltere Eğitim Günleri Fuarı
X-ITAKVIM-LANGUAGE:tr
X-ITAKVIM-REGION:TR
CALSCALE:GREGORIAN
BEGIN:VEVENT
UID:21bdcbfd-3d01-4f18-5363-08de9f183112
DTSTAMP:20260420T200816Z
DTSTART:20260926T060000Z
DTEND:20260926T150000Z
TRANSP:TRANSPARENT
STATUS:CONFIRMED
SUMMARY:İngiltere Eğitim Günleri Fuarı
DESCRIPTION:Edukas Yurtdışı Eğitim Danışmanlık Ticaret Limited Şirketi tarafından düzenlenen İngiltere eğitim kurumları ve kariyer fuarı konulu fuarda görüşmek üzere: 

Web:www.educationukdays.com
E-Posta: gozde@edukas.com.tr
LOCATION:Sheraton Hotel Ve Kongre Merkezi
END:VEVENT
END:VCALENDAR
