BEGIN:VCALENDAR
VERSION:2.0
PRODID:itakvim.com
METHOD:PUBLISH
UID:21c8460f-967f-44fd-4ec0-08de9f183112
X-WR-CALNAME:HMGS Hukuk Mesleklerine Giriş Sınavı 2026-HMGS/2 Sonuç
X-ITAKVIM-LANGUAGE:tr
X-ITAKVIM-REGION:TR
CALSCALE:GREGORIAN
BEGIN:VEVENT
UID:21c8460f-967f-44fd-4ec0-08de9f183112
DTSTAMP:20260420T200538Z
DTSTART:20261021T210000Z
DTEND:20261021T210000Z
TRANSP:TRANSPARENT
STATUS:CONFIRMED
SUMMARY:HMGS Hukuk Mesleklerine Giriş Sınavı 2026-HMGS/2 Sonuç
END:VEVENT
END:VCALENDAR
