BEGIN:VCALENDAR
VERSION:2.0
PRODID:itakvim.com
METHOD:PUBLISH
UID:21ede3a8-5ca3-4742-4f58-08de9f183112
X-WR-CALNAME:STS Eczacılık Eczacılık Alanında Yurt Dışı Yükseköğretim Diploma Denkliği İçin Seviye Tespit Sınavı 2026-STS Eczacılık Sınav
X-ITAKVIM-LANGUAGE:tr
X-ITAKVIM-REGION:TR
CALSCALE:GREGORIAN
BEGIN:VEVENT
UID:21ede3a8-5ca3-4742-4f58-08de9f183112
DTSTAMP:20260420T200538Z
DTSTART:20261106T210000Z
DTEND:20261106T210000Z
TRANSP:TRANSPARENT
STATUS:CONFIRMED
SUMMARY:STS Eczacılık Eczacılık Alanında Yurt Dışı Yükseköğretim Diploma Denkliği İçin Seviye Tespit Sınavı 2026-STS Eczacılık Sınav
END:VEVENT
END:VCALENDAR
