BEGIN:VCALENDAR
VERSION:2.0
PRODID:itakvim.com
METHOD:PUBLISH
UID:2349a7dc-f67c-4153-52bf-08de9f183112
X-WR-CALNAME:Franchıse İzmir Expo
X-ITAKVIM-LANGUAGE:tr
X-ITAKVIM-REGION:TR
CALSCALE:GREGORIAN
BEGIN:VEVENT
UID:2349a7dc-f67c-4153-52bf-08de9f183112
DTSTAMP:20260420T200816Z
DTSTART:20261217T060000Z
DTEND:20261219T150000Z
TRANSP:TRANSPARENT
STATUS:CONFIRMED
SUMMARY:Franchıse İzmir Expo
DESCRIPTION:Alsancak Kongre Ve Fuarcılık Limited Şirketi tarafından düzenlenen bayilik vermek İsteyen İşletmelerle yatrımcı ve girişimcileri buluşturmak konulu fuarda görüşmek üzere: 

Web:www.franchiseizmirexpo.com
E-Posta: info@alsancakfuarcilik.com
LOCATION:Mmo Tepekule Kongre Ve Sergi Merkezi
END:VEVENT
END:VCALENDAR
