BEGIN:VCALENDAR
VERSION:2.0
PRODID:itakvim.com
METHOD:PUBLISH
UID:2358df1d-5fbf-44aa-50f9-08de9f183112
X-WR-CALNAME:Belçika Grand Prix'si Birinci antrenman
X-ITAKVIM-LANGUAGE:tr
X-ITAKVIM-REGION:TR
CALSCALE:GREGORIAN
BEGIN:VEVENT
UID:2358df1d-5fbf-44aa-50f9-08de9f183112
DTSTAMP:20260420T200718Z
DTSTART:20260717T113000Z
DTEND:20260717T113000Z
TRANSP:TRANSPARENT
STATUS:CONFIRMED
SUMMARY:Belçika Grand Prix'si Birinci antrenman
END:VEVENT
END:VCALENDAR
