BEGIN:VCALENDAR
VERSION:2.0
PRODID:itakvim.com
METHOD:PUBLISH
UID:24547f33-aaa8-4dd7-cca4-08de9d98d356
X-WR-CALNAME:Sen İstanbul'dan Daha Güzelsin
X-ITAKVIM-LANGUAGE:tr
X-ITAKVIM-REGION:TR
CALSCALE:GREGORIAN
BEGIN:VEVENT
UID:24547f33-aaa8-4dd7-cca4-08de9d98d356
DTSTAMP:20260418T222122Z
DTSTART:20260424T170000Z
DTEND:20260424T170000Z
TRANSP:TRANSPARENT
STATUS:CONFIRMED
SUMMARY:Sen İstanbul'dan Daha Güzelsin
LOCATION:Harbiye Muhsin Ertuğrul Sahnesi
END:VEVENT
END:VCALENDAR
